BEGIN:VCALENDAR
VERSION:2.0
PRODID:-//Echo Falls HOA - ECPv6.15.17//NONSGML v1.0//EN
CALSCALE:GREGORIAN
METHOD:PUBLISH
X-WR-CALNAME:Echo Falls HOA
X-ORIGINAL-URL:https://www.echofallshoa.com
X-WR-CALDESC:Events for Echo Falls HOA
REFRESH-INTERVAL;VALUE=DURATION:PT1H
X-Robots-Tag:noindex
X-PUBLISHED-TTL:PT1H
BEGIN:VTIMEZONE
TZID:America/Los_Angeles
BEGIN:DAYLIGHT
TZOFFSETFROM:-0800
TZOFFSETTO:-0700
TZNAME:PDT
DTSTART:20170312T100000
END:DAYLIGHT
BEGIN:STANDARD
TZOFFSETFROM:-0700
TZOFFSETTO:-0800
TZNAME:PST
DTSTART:20171105T090000
END:STANDARD
BEGIN:DAYLIGHT
TZOFFSETFROM:-0800
TZOFFSETTO:-0700
TZNAME:PDT
DTSTART:20180311T100000
END:DAYLIGHT
BEGIN:STANDARD
TZOFFSETFROM:-0700
TZOFFSETTO:-0800
TZNAME:PST
DTSTART:20181104T090000
END:STANDARD
BEGIN:DAYLIGHT
TZOFFSETFROM:-0800
TZOFFSETTO:-0700
TZNAME:PDT
DTSTART:20190310T100000
END:DAYLIGHT
BEGIN:STANDARD
TZOFFSETFROM:-0700
TZOFFSETTO:-0800
TZNAME:PST
DTSTART:20191103T090000
END:STANDARD
BEGIN:DAYLIGHT
TZOFFSETFROM:-0800
TZOFFSETTO:-0700
TZNAME:PDT
DTSTART:20200308T100000
END:DAYLIGHT
BEGIN:STANDARD
TZOFFSETFROM:-0700
TZOFFSETTO:-0800
TZNAME:PST
DTSTART:20201101T090000
END:STANDARD
END:VTIMEZONE
BEGIN:VTIMEZONE
TZID:UTC
BEGIN:STANDARD
TZOFFSETFROM:+0000
TZOFFSETTO:+0000
TZNAME:UTC
DTSTART:20160101T000000
END:STANDARD
END:VTIMEZONE
BEGIN:VEVENT
DTSTART;TZID=America/Los_Angeles:20190219T123000
DTEND;TZID=America/Los_Angeles:20190219T140000
DTSTAMP:20260423T063402
CREATED:20190123T211506Z
LAST-MODIFIED:20190123T211506Z
UID:5908-1550579400-1550584800@www.echofallshoa.com
SUMMARY:Book Club Meeting
DESCRIPTION:Destiny of the Republic is the selected reading \nWe will meet Tuesday\, February 19\, 12:30 at The Big Fish Grill in Woodinville.  Marsha is our host and will provide 2-3 book choices for March reading.  I will provide questions for D of the R.  
URL:https://www.echofallshoa.com/event/book-club-meeting-4/
END:VEVENT
BEGIN:VEVENT
DTSTART;TZID=America/Los_Angeles:20190214T170000
DTEND;TZID=America/Los_Angeles:20190214T200000
DTSTAMP:20260423T063402
CREATED:20190123T212759Z
LAST-MODIFIED:20190123T212759Z
UID:5910-1550163600-1550174400@www.echofallshoa.com
SUMMARY:The Golf Course at Echo Falls hosts Valentine's Dinner
DESCRIPTION:The Golf Club at Echo Falls is hosting a Valentine’s Dinner\n$90 | Per Couple\nThursday\, February 14 from 5pm to 8pm\nChef Cedric Thelier has crafted a delicious three-course romantic dinner to share with your Valentine. Please contact Wendi for reservations at: 360.668.3733\nwendih@echofallsgolf.com
URL:https://www.echofallshoa.com/event/the-golf-course-at-echo-falls-hosts-valentines-dinner/
END:VEVENT
BEGIN:VEVENT
DTSTART;TZID=America/Los_Angeles:20181201T193000
DTEND;TZID=America/Los_Angeles:20181201T220000
DTSTAMP:20260423T063402
CREATED:20181127T203917Z
LAST-MODIFIED:20181127T203917Z
UID:5902-1543692600-1543701600@www.echofallshoa.com
SUMMARY:Echo Falls Christmas & New Homeowner Party
DESCRIPTION:The Home of Jason & Lora Gabor \n20707 127th Ave SE \nPlease RSVP by 11/30 and bring a heavy appetizer to share \nlora.gabor@gmail.com \n 
URL:https://www.echofallshoa.com/event/echo-falls-christmas-new-homeowner-party/
ORGANIZER;CN="Social and Hospitality Team":MAILTO:social@echofallshoa.com
END:VEVENT
BEGIN:VEVENT
DTSTART;TZID=America/Los_Angeles:20180915T080000
DTEND;TZID=America/Los_Angeles:20180915T143000
DTSTAMP:20260423T063402
CREATED:20180523T231408Z
LAST-MODIFIED:20180523T231408Z
UID:5869-1536998400-1537021800@www.echofallshoa.com
SUMMARY:Community Garage Sale
DESCRIPTION:
URL:https://www.echofallshoa.com/event/community-garage-sale/
ATTACH;FMTTYPE=image/jpeg:https://www.echofallshoa.com/wp-content/uploads/2016/01/garagesale.jpg
ORGANIZER;CN="Social and Hospitality Team":MAILTO:social@echofallshoa.com
END:VEVENT
BEGIN:VEVENT
DTSTART;TZID=America/Los_Angeles:20180831T173000
DTEND;TZID=America/Los_Angeles:20180831T203000
DTSTAMP:20260423T063402
CREATED:20180503T022521Z
LAST-MODIFIED:20180503T022521Z
UID:5864-1535736600-1535747400@www.echofallshoa.com
SUMMARY:Family Swim Night
DESCRIPTION:
URL:https://www.echofallshoa.com/event/family-swim-night-8/
END:VEVENT
BEGIN:VEVENT
DTSTART;TZID=America/Los_Angeles:20180817T173000
DTEND;TZID=America/Los_Angeles:20180817T203000
DTSTAMP:20260423T063402
CREATED:20180503T022430Z
LAST-MODIFIED:20180503T022430Z
UID:5862-1534527000-1534537800@www.echofallshoa.com
SUMMARY:Family Swim Night
DESCRIPTION:
URL:https://www.echofallshoa.com/event/family-swim-night-7/
END:VEVENT
BEGIN:VEVENT
DTSTART;TZID=America/Los_Angeles:20180803T173000
DTEND;TZID=America/Los_Angeles:20180803T203000
DTSTAMP:20260423T063402
CREATED:20180503T022345Z
LAST-MODIFIED:20180503T022345Z
UID:5860-1533317400-1533328200@www.echofallshoa.com
SUMMARY:Family Swim Night
DESCRIPTION:
URL:https://www.echofallshoa.com/event/family-swim-night-6/
END:VEVENT
BEGIN:VEVENT
DTSTART;TZID=America/Los_Angeles:20180722T173000
DTEND;TZID=America/Los_Angeles:20180722T203000
DTSTAMP:20260423T063402
CREATED:20180523T231720Z
LAST-MODIFIED:20180523T231720Z
UID:5871-1532280600-1532291400@www.echofallshoa.com
SUMMARY:HOA Pool Party & BBQ
DESCRIPTION:Come down to the pool with your family and meet the newest members of our Echo Falls Community!  The Social + Hospitality Team will host grilled protein (burgers and dogs) and supply all the fixings.  Each homeowner is asked to bring a side dish or dessert.
URL:https://www.echofallshoa.com/event/hoa-pool-party-bbq/
LOCATION:EF Pool
ORGANIZER;CN="Social and Hospitality Team":MAILTO:social@echofallshoa.com
END:VEVENT
BEGIN:VEVENT
DTSTART;TZID=America/Los_Angeles:20180720T173000
DTEND;TZID=America/Los_Angeles:20180720T203000
DTSTAMP:20260423T063402
CREATED:20180503T022219Z
LAST-MODIFIED:20180503T022219Z
UID:5858-1532107800-1532118600@www.echofallshoa.com
SUMMARY:Family Swim Night
DESCRIPTION:
URL:https://www.echofallshoa.com/event/family-swim-night-5/
END:VEVENT
BEGIN:VEVENT
DTSTART;TZID=America/Los_Angeles:20180706T173000
DTEND;TZID=America/Los_Angeles:20180706T203000
DTSTAMP:20260423T063402
CREATED:20180503T022115Z
LAST-MODIFIED:20180503T022115Z
UID:5856-1530898200-1530909000@www.echofallshoa.com
SUMMARY:Family Swim night
DESCRIPTION:
URL:https://www.echofallshoa.com/event/family-swim-night-4/
END:VEVENT
BEGIN:VEVENT
DTSTART;TZID=America/Los_Angeles:20180629T173000
DTEND;TZID=America/Los_Angeles:20180629T203000
DTSTAMP:20260423T063402
CREATED:20180503T022021Z
LAST-MODIFIED:20180503T022021Z
UID:5854-1530293400-1530304200@www.echofallshoa.com
SUMMARY:Family Swim Night
DESCRIPTION:
URL:https://www.echofallshoa.com/event/family-swim-night-3/
END:VEVENT
BEGIN:VEVENT
DTSTART;TZID=America/Los_Angeles:20180615T173000
DTEND;TZID=America/Los_Angeles:20180615T203000
DTSTAMP:20260423T063402
CREATED:20180503T021927Z
LAST-MODIFIED:20180503T021927Z
UID:5852-1529083800-1529094600@www.echofallshoa.com
SUMMARY:Family Swim Night
DESCRIPTION:
URL:https://www.echofallshoa.com/event/family-swim-night-2/
END:VEVENT
BEGIN:VEVENT
DTSTART;TZID=America/Los_Angeles:20180601T173000
DTEND;TZID=America/Los_Angeles:20180601T203000
DTSTAMP:20260423T063402
CREATED:20180503T021836Z
LAST-MODIFIED:20180503T021836Z
UID:5849-1527874200-1527885000@www.echofallshoa.com
SUMMARY:Family Swim Night
DESCRIPTION:
URL:https://www.echofallshoa.com/event/family-swim-night/
LOCATION:EF Pool
ORGANIZER;CN="Social and Hospitality Team":MAILTO:social@echofallshoa.com
END:VEVENT
BEGIN:VEVENT
DTSTART;TZID=America/Los_Angeles:20180527T080000
DTEND;TZID=America/Los_Angeles:20180527T170000
DTSTAMP:20260423T063402
CREATED:20180503T021443Z
LAST-MODIFIED:20180503T021443Z
UID:5846-1527408000-1527440400@www.echofallshoa.com
SUMMARY:2018 Pool Season Begins
DESCRIPTION:
URL:https://www.echofallshoa.com/event/2018-pool-season-begins/
END:VEVENT
BEGIN:VEVENT
DTSTART;TZID=America/Los_Angeles:20180516T080000
DTEND;TZID=America/Los_Angeles:20180516T170000
DTSTAMP:20260423T063402
CREATED:20180503T020727Z
LAST-MODIFIED:20180503T020743Z
UID:5842-1526457600-1526490000@www.echofallshoa.com
SUMMARY:2018 Pool Paperwork is DUE!!
DESCRIPTION:Please sign and return the following two forms to the Pool Team- \n2018 Pool Code Form \n2018 Pool Rules Acceptance Sheet \n(It may be dropped in the EFHA box at 20514 121st Ave SE) \nIf you have any questions\, contact Paul Johnson at johnsonpaulh@frontier.com
URL:https://www.echofallshoa.com/event/2018-pool-paperwork-is-due/
END:VEVENT
BEGIN:VEVENT
DTSTART;TZID=America/Los_Angeles:20180513T090000
DTEND;TZID=America/Los_Angeles:20180513T150000
DTSTAMP:20260423T063402
CREATED:20180417T060101Z
LAST-MODIFIED:20180417T060101Z
UID:5820-1526202000-1526223600@www.echofallshoa.com
SUMMARY:Mother's Day Brunch at the Golf Course at Echo Falls
DESCRIPTION:Enjoy Mother’s Day brunch in the Lakeside Room! \nBy reservation only\, starting at 9:00 am. \nAdults: $26.95 and Children: $14.95 \nFor reservations\, please call: 360.668.3030 ext: 234
URL:https://www.echofallshoa.com/event/mothers-day-brunch-at-the-golf-course-at-echo-falls/
LOCATION:Greenside Grill
END:VEVENT
BEGIN:VEVENT
DTSTART;TZID=America/Los_Angeles:20180506T170000
DTEND;TZID=America/Los_Angeles:20180506T200000
DTSTAMP:20260423T063402
CREATED:20180411T233257Z
LAST-MODIFIED:20180411T234403Z
UID:5813-1525626000-1525636800@www.echofallshoa.com
SUMMARY:Pankcakes + Movie Night
DESCRIPTION:We are excited to gather our fellow Echo Falls neighbors and their guests in the Lakeview Room of the Echo Falls Clubhouse for a fun night watching Despicable Me 3 and having breakfast for dinner! \n\nAll attendees are entered to win a dinner gift certificate for two at the Greenside Grill!\n$14 per person which includes dinner and movie (ages 4 and under are free)\nBring your sleeping bag\, blow up mattresses\, loungers\, and wear your comfortable pajamas!\nEcho Falls family and friends are welcome  to join us!\nPlease RSVP and pre-pay to Wendi at the clubhouse: WendiH@echofallsgolf.com or (360) 668-3030 ext 238\nPlease note: If we do not have enough interest by April 22nd we will not be able to have the event. RSVP today!\n\nIf you have any questions\, please feel free to contact:  Kimberley Caffrey @ 425-652-0029 or Soley Newell @ 425-387-1140 \n  \n 
URL:https://www.echofallshoa.com/event/pankcakes-movie-night/
LOCATION:Greenside Grill
ORGANIZER;CN="Social and Hospitality Team":MAILTO:social@echofallshoa.com
END:VEVENT
BEGIN:VEVENT
DTSTART;TZID=America/Los_Angeles:20180320T123000
DTEND;TZID=America/Los_Angeles:20180320T140000
DTSTAMP:20260423T063402
CREATED:20180226T031258Z
LAST-MODIFIED:20180226T031258Z
UID:5801-1521549000-1521554400@www.echofallshoa.com
SUMMARY:EF Book Club
DESCRIPTION:Our March reading will be The Girl Who Wrote in Silk by Kelli Estes “Inara Erickson is exploring her deceased aunt’s island estate when she finds an elaborately stitched piece of fabric hidden in the house. As she peels back layer upon layer of the secrets it holds\, Inara’s life becomes interwoven with that of Mei Lein\, a young Chinese girl mysteriously driven from her home a century before. Through the stories Mei Lein tells in silk\, Inara uncovers a tragic truth that will shake her family to its core — and force her to make an impossible choice.  Inspired by true events\, Kelli Estes’s brilliant and atmospheric debut serves as a poignant tale of two women determined to do the right thing\, and the power of our own stories.”  \nMerideth’s (15514 – 242nd St SE\, Snohomish) \nMerideth’s home is further up Echo Lake Road.  If anyone wants to car pool\, I’m happy to drive.  We will be having a potluck lunch (feel free to bring whatever you wish–Merideth will provide the dessert).  Also\, we will be having a book exchange\, so bring books which you would like to trade. \n  \n 
URL:https://www.echofallshoa.com/event/ef-book-club/
LOCATION:Merideth’s Home\, 15514 - 242nd St SE\, Snohomish\, WA\, 98296\, United States
END:VEVENT
BEGIN:VEVENT
DTSTART;TZID=America/Los_Angeles:20180302T180000
DTEND;TZID=America/Los_Angeles:20180302T200000
DTSTAMP:20260423T063402
CREATED:20180126T000342Z
LAST-MODIFIED:20180129T032424Z
UID:5794-1520013600-1520020800@www.echofallshoa.com
SUMMARY:Wine Maker's Dinner hosted by The Echo Falls Golf Course
DESCRIPTION:Master winemaker\, Morgan Led of Covington Cellars and Two Vintners\, will be joining Executive Chef\, Cedric Thelier\, to create a one of a kind five course event\, Friday March 2nd @ 6:00pm.  Advanced tickets are on sale NOW for  only $65 plus tax and gratuity to friends of Echo Falls.  Tickets will open to the general public Feb 1st.  Seat must be purchases in advance\, reservations are limited.  Larger groups\, call early as these table go fast.  There will be no night of event ticket sales.    \nTo purchase tickets call 360-668-3030 ext.228 \nWe look forward to you joining us here at The Golf Club at Echo Falls. \nhttps://twovintners.com/pages/about-us \nhttps://covingtoncellars.com/pages/story \n  \n 
URL:https://www.echofallshoa.com/event/wine-makers-dinner-hosted-by-the-echo-falls-golf-course/
LOCATION:Greenside Grill
END:VEVENT
BEGIN:VEVENT
DTSTART;TZID=America/Los_Angeles:20180129T180000
DTEND;TZID=America/Los_Angeles:20180129T190000
DTSTAMP:20260423T063402
CREATED:20180123T054331Z
LAST-MODIFIED:20180123T054331Z
UID:5790-1517248800-1517252400@www.echofallshoa.com
SUMMARY:Social + Hospitality Planning Meeting
DESCRIPTION:We will be having our 2018 Social & Hospitality yearly planning meeting on Monday\, January 29th at the Greenside grill at 6:00 pm. Please RSVP by sending an email to social@echofallshoa.com. Our goal for this meeting is to create some new and fun events for the year\, assign leaders\, and choose dates. This meeting is open to all homeowners!  Can’t wait to see you there-
URL:https://www.echofallshoa.com/event/social-hospitality-planning-meeting/
LOCATION:Greenside Grill
ORGANIZER;CN="Social and Hospitality Team":MAILTO:social@echofallshoa.com
END:VEVENT
BEGIN:VEVENT
DTSTART;TZID=UTC:20180109T190000
DTEND;TZID=UTC:20180109T210000
DTSTAMP:20260423T063402
CREATED:20180110T085926Z
LAST-MODIFIED:20180110T085926Z
UID:5760-1515524400-1515531600@www.echofallshoa.com
SUMMARY:EF HOA Annual Meeting
DESCRIPTION:Join us at the Clubhouse for the EF Annual Meeting!
URL:https://www.echofallshoa.com/event/ef-hoa-annual-meeting/
LOCATION:Echo Falls Community\, 20514 121st Ave. SE\, Snohomish\, WA\, 98296\, United States
ORGANIZER;CN="Social and Hospitality Team":MAILTO:social@echofallshoa.com
END:VEVENT
BEGIN:VEVENT
DTSTART;TZID=UTC:20171202T190000
DTEND;TZID=UTC:20171202T213000
DTSTAMP:20260423T063402
CREATED:20170329T022956Z
LAST-MODIFIED:20171130T080418Z
UID:5559-1512241200-1512250200@www.echofallshoa.com
SUMMARY:Annual Christmas & New Homeowner Party
DESCRIPTION:
URL:https://www.echofallshoa.com/event/annual-christmas-new-homeowner-party/
END:VEVENT
BEGIN:VEVENT
DTSTART;TZID=UTC:20171029T140000
DTEND;TZID=UTC:20171029T160000
DTSTAMP:20260423T063402
CREATED:20170329T022812Z
LAST-MODIFIED:20170329T022812Z
UID:5557-1509285600-1509292800@www.echofallshoa.com
SUMMARY:Cart + Costume parade
DESCRIPTION:Must reserve a cart with the Golf Course and cart pick up is at 8am
URL:https://www.echofallshoa.com/event/cart-costume-parade/
END:VEVENT
BEGIN:VEVENT
DTSTART;TZID=UTC:20171027T180000
DTEND;TZID=UTC:20171027T220000
DTSTAMP:20260423T063402
CREATED:20171019T100749Z
LAST-MODIFIED:20171019T100751Z
UID:5720-1509127200-1509141600@www.echofallshoa.com
SUMMARY:First Annual Brewer's Dinner at Echo Falls Golf Course
DESCRIPTION:
URL:https://www.echofallshoa.com/event/first-annual-brewers-dinner-at-echo-falls-golf-course/
LOCATION:Greenside Grill
END:VEVENT
BEGIN:VEVENT
DTSTART;TZID=UTC:20170926T123000
DTEND;TZID=UTC:20170926T140000
DTSTAMP:20260423T063402
CREATED:20170824T041810Z
LAST-MODIFIED:20170824T041810Z
UID:5693-1506429000-1506434400@www.echofallshoa.com
SUMMARY:Book Club Meeting
DESCRIPTION:Please note this is not the third Tuesday which is our usual meeting day. We will have a potluck lunch with Bonnie providing the main course and each of us bringing either a salad\, dessert\, rolls\, or whatever else you might choose.  We will be discussing The Nightingale by Kristin Hannah. Bonnie will lead our discussion and provide 2-3 books from which we will choose for October reading.
URL:https://www.echofallshoa.com/event/book-club-meeting-3/
LOCATION:Bonnie Holstad’s Residence\, 20724 - 127th Ave SE\, Snohomish\, WA\, 98296\, United States
ORGANIZER;CN="Book Club":MAILTO:acweydahl@aol.com
END:VEVENT
BEGIN:VEVENT
DTSTART;TZID=UTC:20170917T160000
DTEND;TZID=UTC:20170917T210000
DTSTAMP:20260423T063402
CREATED:20170329T023050Z
LAST-MODIFIED:20170824T044400Z
UID:5561-1505664000-1505682000@www.echofallshoa.com
SUMMARY:Echo Falls GOLF SCRAMBLE
DESCRIPTION:Hosted by: Jon and Crista Langston \nEvent details: TBA
URL:https://www.echofallshoa.com/event/echo-falls-golf-scramble/
LOCATION:Echo Falls Community\, 20514 121st Ave. SE\, Snohomish\, WA\, 98296\, United States
END:VEVENT
BEGIN:VEVENT
DTSTART;TZID=UTC:20170815T123000
DTEND;TZID=UTC:20170815T140000
DTSTAMP:20260423T063402
CREATED:20170630T134207Z
LAST-MODIFIED:20170630T134207Z
UID:5669-1502800200-1502805600@www.echofallshoa.com
SUMMARY:Book Club
DESCRIPTION:We will read The Wind is Not a River by Brian Payton: \n “The Wind Is Not a River is a gripping tale of survival and an epic love story in which a husband and wife—separated by the only battle of World War II to take place on American soil—fight to reunite in Alaska’s starkly beautiful Aleutian Islands.”  Cheryl will lead this discussion.  Our meeting place will be decided at our July discussion.
URL:https://www.echofallshoa.com/event/book-club-2/
ORGANIZER;CN="Book Club":MAILTO:acweydahl@aol.com
END:VEVENT
BEGIN:VEVENT
DTSTART;TZID=UTC:20170720T183000
DTEND;TZID=UTC:20170720T203000
DTSTAMP:20260423T063402
CREATED:20170630T130645Z
LAST-MODIFIED:20170630T130804Z
UID:5660-1500575400-1500582600@www.echofallshoa.com
SUMMARY:Echo Falls Women's League
DESCRIPTION:Every Thursday from 6:30-8:30pm.  \nSeason Cost: $25.00  \n9 Hole Golf Cost: $24 with a players card or $32 without (includes the use of a cart)  You will also receive 25% off all food in the Grill! \nPlease contact the Catering Sales Manager; Krista Larrison\, kristal@echofallsgolf.com or our off property contact\, Lisa Hammel if you have any questions at lhammell@woodinvillelaw.com \n 
URL:https://www.echofallshoa.com/event/echo-falls-womens-league/
LOCATION:Greenside Grill
END:VEVENT
BEGIN:VEVENT
DTSTART;TZID=UTC:20170718T123000
DTEND;TZID=UTC:20170718T140000
DTSTAMP:20260423T063402
CREATED:20170630T133913Z
LAST-MODIFIED:20170630T133913Z
UID:5666-1500381000-1500386400@www.echofallshoa.com
SUMMARY:Book Club
DESCRIPTION:Our reading for July will be Digital Fortress by Dan Brown.  We will be meeting at Trilogy.
URL:https://www.echofallshoa.com/event/book-club/
LOCATION:Trilogy
ORGANIZER;CN="Book Club":MAILTO:acweydahl@aol.com
END:VEVENT
BEGIN:VEVENT
DTSTART;TZID=UTC:20170716T173000
DTEND;TZID=UTC:20170716T190000
DTSTAMP:20260423T063402
CREATED:20170329T022541Z
LAST-MODIFIED:20170630T125547Z
UID:5555-1500226200-1500231600@www.echofallshoa.com
SUMMARY:BBQ + Pool Party Potluck
DESCRIPTION:Your Social & Hospitality team is hosting our community BBQ!  They will provide the protein + fixings but homeowner’s need to RSVP by July 10th and bring either a side dish or dessert to share. \nLocation: Echo Falls Community Pool \nGuests: Homeowners and their families \n 
URL:https://www.echofallshoa.com/event/bbq-pool-party-potluck/
LOCATION:Echo Falls Community\, 20514 121st Ave. SE\, Snohomish\, WA\, 98296\, United States
ORGANIZER;CN="Social and Hospitality Team":MAILTO:social@echofallshoa.com
END:VEVENT
END:VCALENDAR