BEGIN:VCALENDAR
VERSION:2.0
PRODID:-//Echo Falls HOA - ECPv6.15.17//NONSGML v1.0//EN
CALSCALE:GREGORIAN
METHOD:PUBLISH
X-WR-CALNAME:Echo Falls HOA
X-ORIGINAL-URL:https://www.echofallshoa.com
X-WR-CALDESC:Events for Echo Falls HOA
REFRESH-INTERVAL;VALUE=DURATION:PT1H
X-Robots-Tag:noindex
X-PUBLISHED-TTL:PT1H
BEGIN:VTIMEZONE
TZID:UTC
BEGIN:STANDARD
TZOFFSETFROM:+0000
TZOFFSETTO:+0000
TZNAME:UTC
DTSTART:20160101T000000
END:STANDARD
END:VTIMEZONE
BEGIN:VEVENT
DTSTART;TZID=UTC:20170620T123000
DTEND;TZID=UTC:20170620T143000
DTSTAMP:20260423T111600
CREATED:20170602T010803Z
LAST-MODIFIED:20170630T132518Z
UID:5643-1497961800-1497969000@www.echofallshoa.com
SUMMARY:Book Club meeting
DESCRIPTION:Gold Warriors: America’s Secret Recovery of Yamashita Gold by Sterling and Peggy Seagrave for our June read.  Carol will host and Joanne will lead the discussion. 
URL:https://www.echofallshoa.com/event/book-club-meeting-2/
LOCATION:Greenside Grill
ORGANIZER;CN="Book Club":MAILTO:acweydahl@aol.com
END:VEVENT
BEGIN:VEVENT
DTSTART;TZID=UTC:20170617T080000
DTEND;TZID=UTC:20170617T150000
DTSTAMP:20260423T111600
CREATED:20170226T160020Z
LAST-MODIFIED:20170329T023737Z
UID:5249-1497686400-1497711600@www.echofallshoa.com
SUMMARY:Annual EF Community Garage Sale
DESCRIPTION:Don’t miss the Annual Echo Falls Community Garage Sale!  Hosted by your Social and Hospitality team\, this event only happens once a year so start planning early!  Participating homes should register by emailing social@echofallshoa.com \n 
URL:https://www.echofallshoa.com/event/annual-ef-community-garage-sale/
LOCATION:Echo Falls Community\, 20514 121st Ave. SE\, Snohomish\, WA\, 98296\, United States
ATTACH;FMTTYPE=image/jpeg:https://www.echofallshoa.com/wp-content/uploads/2016/01/garage-sale.jpg
ORGANIZER;CN="Social and Hospitality Team":MAILTO:social@echofallshoa.com
END:VEVENT
BEGIN:VEVENT
DTSTART;TZID=UTC:20170608T190000
DTEND;TZID=UTC:20170608T190000
DTSTAMP:20260423T111600
CREATED:20170329T024232Z
LAST-MODIFIED:20170329T024232Z
UID:5564-1496948400-1496948400@www.echofallshoa.com
SUMMARY:EF HOA Board Meeting
DESCRIPTION:
URL:https://www.echofallshoa.com/event/ef-hoa-board-meeting-2/
END:VEVENT
BEGIN:VEVENT
DTSTART;TZID=UTC:20170527T080000
DTEND;TZID=UTC:20170527T080000
DTSTAMP:20260423T111600
CREATED:20170329T021932Z
LAST-MODIFIED:20170329T023510Z
UID:5553-1495872000-1495872000@www.echofallshoa.com
SUMMARY:EF Pool Opens
DESCRIPTION:
URL:https://www.echofallshoa.com/event/ef-pool-opens/
END:VEVENT
BEGIN:VEVENT
DTSTART;TZID=UTC:20170523T123000
DTEND;TZID=UTC:20170523T140000
DTSTAMP:20260423T111600
CREATED:20170422T020156Z
LAST-MODIFIED:20170422T020546Z
UID:5611-1495542600-1495548000@www.echofallshoa.com
SUMMARY:Book Club Meets
DESCRIPTION:We will meet at 12:30 p.m. at Italianissimo (Woodinville).  We are reading and discussing The Worst Hard Time–The Untold Story of Those Who Survived the Great American Dust Bowl: “Although it has facts and figures as to how many tons of silt\, grit\, and dirt the “black Blizzards dropped in the area\, The Worst Hard Time tells the story of the citizens of the area and their struggle to fight a vicious mutated nature that man helped to create\, or to give up on the land and leave.  Each man and woman faced the challenge of a lifetime–challenges that they would have never imagined\, or taken on\, if their backs hadn’t been against the wall.”   Ruth will lead our discussion for May. \n Link to previous books click here
URL:https://www.echofallshoa.com/event/book-club-meets/
LOCATION:Italianissimo\, Woodinville\, WA
ORGANIZER;CN="Book Club":MAILTO:acweydahl@aol.com
END:VEVENT
BEGIN:VEVENT
DTSTART;TZID=UTC:20170520T190000
DTEND;TZID=UTC:20170520T213000
DTSTAMP:20260423T111600
CREATED:20170419T034126Z
LAST-MODIFIED:20170512T033303Z
UID:5600-1495306800-1495315800@www.echofallshoa.com
SUMMARY:SPEAKEASY-RESCHEDULED!
DESCRIPTION:Disappointed to report that this event will be rescheduled for September.
URL:https://www.echofallshoa.com/event/speakeasy/
LOCATION:Echo Falls Community\, 20514 121st Ave. SE\, Snohomish\, WA\, 98296\, United States
ORGANIZER;CN="Social and Hospitality Team":MAILTO:social@echofallshoa.com
END:VEVENT
BEGIN:VEVENT
DTSTART;TZID=UTC:20170418T123000
DTEND;TZID=UTC:20170418T140000
DTSTAMP:20260423T111600
CREATED:20170415T095008Z
LAST-MODIFIED:20170415T095008Z
UID:5582-1492518600-1492524000@www.echofallshoa.com
SUMMARY:Book Club Meeting
DESCRIPTION:The Book Club will meet at Trilogy (the restaurant at the golf club) to discuss The Roundhouse by Louise Erdich.  Rebecca will lead the discussion (provided she can attend) and Ruth will provide 2-3 books from which to choose for discussion in May.  If anyone wants to carpool please contact\, Cheryl Weydahl at 360-668-1623 or acweydahl@aol.com
URL:https://www.echofallshoa.com/event/book-club-meeting/
ORGANIZER;CN="Book Club":MAILTO:acweydahl@aol.com
END:VEVENT
BEGIN:VEVENT
DTSTART;TZID=UTC:20170323T190000
DTEND;TZID=UTC:20170323T210000
DTSTAMP:20260423T111600
CREATED:20170227T074921Z
LAST-MODIFIED:20170227T134102Z
UID:5243-1490295600-1490302800@www.echofallshoa.com
SUMMARY:EF HOA Board Meeting
DESCRIPTION:Per our By-laws ARTICLE II: Section 7: this is an open meeting for observation by any member.
URL:https://www.echofallshoa.com/event/ef-hoa-board-meeting/
LOCATION:Roger and Charlie Valentine’s Home\, 21022 121st Ave SE\, Snohomish\, WA\, 98296\, United States
END:VEVENT
BEGIN:VEVENT
DTSTART;TZID=UTC:20170313T190000
DTEND;TZID=UTC:20170313T200000
DTSTAMP:20260423T111600
CREATED:20170307T063655Z
LAST-MODIFIED:20170307T064244Z
UID:5539-1489431600-1489435200@www.echofallshoa.com
SUMMARY:Social & Hospitality planning mtg
DESCRIPTION:Join us as we gather to plan the 2017-2018 Social & Hospitality calendar.  We will be discussing new ideas\, assigning leadership\, and creating the calendar.  Please don’t feel that if you attend you must lead an event…that’s not true!  We are looking for ideas that are fresh and fun for all the members of our community.  Please send and email letting us know you can make it! \nsocial@echofallshoa.com \n 
URL:https://www.echofallshoa.com/event/social-hospitality-planning-mtg/
ATTACH;FMTTYPE=image/jpeg:https://www.echofallshoa.com/wp-content/uploads/2014/03/coming-soon.jpg
ORGANIZER;CN="Social and Hospitality Team":MAILTO:social@echofallshoa.com
END:VEVENT
END:VCALENDAR